BEGIN:VCALENDAR
VERSION:2.0
PRODID:-//Alaska Grand Jurors Association - ECPv6.15.20//NONSGML v1.0//EN
CALSCALE:GREGORIAN
METHOD:PUBLISH
X-ORIGINAL-URL:https://alaskagrandjurorsassociation.org
X-WR-CALDESC:Events for Alaska Grand Jurors Association
REFRESH-INTERVAL;VALUE=DURATION:PT1H
X-Robots-Tag:noindex
X-PUBLISHED-TTL:PT1H
BEGIN:VTIMEZONE
TZID:America/Anchorage
BEGIN:DAYLIGHT
TZOFFSETFROM:-0900
TZOFFSETTO:-0800
TZNAME:AKDT
DTSTART:20240310T110000
END:DAYLIGHT
BEGIN:STANDARD
TZOFFSETFROM:-0800
TZOFFSETTO:-0900
TZNAME:AKST
DTSTART:20241103T100000
END:STANDARD
BEGIN:DAYLIGHT
TZOFFSETFROM:-0900
TZOFFSETTO:-0800
TZNAME:AKDT
DTSTART:20250309T110000
END:DAYLIGHT
BEGIN:STANDARD
TZOFFSETFROM:-0800
TZOFFSETTO:-0900
TZNAME:AKST
DTSTART:20251102T100000
END:STANDARD
BEGIN:DAYLIGHT
TZOFFSETFROM:-0900
TZOFFSETTO:-0800
TZNAME:AKDT
DTSTART:20260308T110000
END:DAYLIGHT
BEGIN:STANDARD
TZOFFSETFROM:-0800
TZOFFSETTO:-0900
TZNAME:AKST
DTSTART:20261101T100000
END:STANDARD
END:VTIMEZONE
BEGIN:VEVENT
DTSTART;TZID=America/Anchorage:20250927T200000
DTEND;TZID=America/Anchorage:20250927T210000
DTSTAMP:20260422T165339
CREATED:20250824T205734Z
LAST-MODIFIED:20250824T205734Z
UID:1180-1759003200-1759006800@alaskagrandjurorsassociation.org
SUMMARY:Weekly AGJA Zoom meeting invites you to learn about grand jury investigations September 27th at 8PM
DESCRIPTION:Join our weekly Saturday 8pm Alaska Grand Juror Association ZOOM meetings.  Join discussions on Alaska Court system\, court oversight\, legislation related to courts and cases that have fallen through the cracks or that have upheld justice.  Does your family use the court system?  Does your family pay for judicial oversight?  Could your rights be impacted by the system?  If you think you fit any of these cases you might consider joining AGJA.  Join the Zoom Saturdays 8PM AND EVERY SATURDAY \nLink: https://us06web.zoom.us/j/9073986403?pwd=Dgwv3nK9k2MtvAYwXKWltCQBEag3ss.1 \nIf the link above doesn’t work the meeting ID number is now the same as my phone number so you can’t forget: \n907 398 6403 \nPasscode is also hard to forget: \n1234 \nAGJA CALENDAR 
URL:https://alaskagrandjurorsassociation.org/event/weekly-agja-zoom-meeting-invites-you-to-learn-about-grand-jury-investigations-september-27th-at-8pm/
CATEGORIES:Communication,Government
ATTACH;FMTTYPE=image/jpeg:https://alaskagrandjurorsassociation.org/wp-content/uploads/2023/06/zoom-logo.jpg
END:VEVENT
END:VCALENDAR